BEGIN:VCALENDAR
VERSION:2.0
PRODID:-//St Austins Parish Msongari - ECPv6.15.20//NONSGML v1.0//EN
CALSCALE:GREGORIAN
METHOD:PUBLISH
X-WR-CALNAME:St Austins Parish Msongari
X-ORIGINAL-URL:https://staustinschurch.or.ke
X-WR-CALDESC:Events for St Austins Parish Msongari
REFRESH-INTERVAL;VALUE=DURATION:PT1H
X-Robots-Tag:noindex
X-PUBLISHED-TTL:PT1H
BEGIN:VTIMEZONE
TZID:UTC
BEGIN:STANDARD
TZOFFSETFROM:+0000
TZOFFSETTO:+0000
TZNAME:UTC
DTSTART:20230101T000000
END:STANDARD
END:VTIMEZONE
BEGIN:VEVENT
DTSTART;TZID=UTC:20240303T160000
DTEND;TZID=UTC:20240307T183000
DTSTAMP:20260425T192303
CREATED:20240224T190558Z
LAST-MODIFIED:20240224T190558Z
UID:5036-1709481600-1709836200@staustinschurch.or.ke
SUMMARY:LENTEN RETREAT 2024
DESCRIPTION:LENTEN RETREAT 2024\n3rd March – 7th March\, 2024\nTheme: Romans 12:2 – Romans 12:2 _Be transformed by the renewal of your mind… \nTOPICS\nDay 1. Living the pillars of lent: Almsgiving\, Prayer and Fasting\nDay 2: Repentance and Forgiveness\nDay 3: Encountering Jesus in the Eucharist\nDay 4: Walking in the Spirit of Synodality
URL:https://staustinschurch.or.ke/event/lenten-retreat-2024/
LOCATION:ST AUSTINS PARISH MSONGARI\, Parklands\, Rhapta Road\, Nairobi\, NAIROBI\, Nairobi County\, 252-SARIT\, Kenya
END:VEVENT
END:VCALENDAR