BEGIN:VCALENDAR
VERSION:2.0
PRODID:-//St Austins Parish Msongari - ECPv6.15.20//NONSGML v1.0//EN
CALSCALE:GREGORIAN
METHOD:PUBLISH
X-ORIGINAL-URL:https://staustinschurch.or.ke
X-WR-CALDESC:Events for St Austins Parish Msongari
REFRESH-INTERVAL;VALUE=DURATION:PT1H
X-Robots-Tag:noindex
X-PUBLISHED-TTL:PT1H
BEGIN:VTIMEZONE
TZID:UTC
BEGIN:STANDARD
TZOFFSETFROM:+0000
TZOFFSETTO:+0000
TZNAME:UTC
DTSTART:20230101T000000
END:STANDARD
END:VTIMEZONE
BEGIN:VEVENT
DTSTART;TZID=UTC:20240315T080000
DTEND;TZID=UTC:20240316T153000
DTSTAMP:20260425T191907
CREATED:20240213T061743Z
LAST-MODIFIED:20240213T062130Z
UID:4962-1710489600-1710603000@staustinschurch.or.ke
SUMMARY:SELF LEADERSHIP PROGRAMME
DESCRIPTION:The St. Austins Parish-Msongari\, in conjunction with The Change Leadership Institute\, has organised a training for our youth who are about to join university as well as those already in institutions of higher learning. The purpose of the training is help youth to start building self awareness and to bring out the power within them. \nThe training will be conducted on 15th and 16th March\, 2024 at the St. Austin’s Parish Multipurpose hall from 8.00 o’clock. \nYouth are encouraged to register for this life-changing program. \nRegistration can be done at the Parish Office or through WhatsApp Mobile No. 0705 593500
URL:https://staustinschurch.or.ke/event/self-leadership-programme/
LOCATION:ST AUSTINS PARISH MSONGARI\, Parklands\, Rhapta Road\, Nairobi\, NAIROBI\, Nairobi County\, 252-SARIT\, Kenya
END:VEVENT
END:VCALENDAR