BEGIN:VCALENDAR
VERSION:2.0
PRODID:-//St Austins Parish Msongari - ECPv6.15.20//NONSGML v1.0//EN
CALSCALE:GREGORIAN
METHOD:PUBLISH
X-ORIGINAL-URL:https://staustinschurch.or.ke
X-WR-CALDESC:Events for St Austins Parish Msongari
REFRESH-INTERVAL;VALUE=DURATION:PT1H
X-Robots-Tag:noindex
X-PUBLISHED-TTL:PT1H
BEGIN:VTIMEZONE
TZID:UTC
BEGIN:STANDARD
TZOFFSETFROM:+0000
TZOFFSETTO:+0000
TZNAME:UTC
DTSTART:20230101T000000
END:STANDARD
END:VTIMEZONE
BEGIN:VEVENT
DTSTART;TZID=UTC:20240728T123000
DTEND;TZID=UTC:20240728T163000
DTSTAMP:20260425T122300
CREATED:20240712T131303Z
LAST-MODIFIED:20240712T132551Z
UID:5735-1722169800-1722184200@staustinschurch.or.ke
SUMMARY:WORLD GRANDPARENTS DAY
DESCRIPTION:This year\, St. Austin’s Parish will celebrate our senior Parishioners in a special way. See Poster for more details.
URL:https://staustinschurch.or.ke/event/world-grandparents-day/
END:VEVENT
END:VCALENDAR