BEGIN:VCALENDAR
VERSION:2.0
PRODID:-//St Austins Parish Msongari - ECPv6.15.20//NONSGML v1.0//EN
CALSCALE:GREGORIAN
METHOD:PUBLISH
X-ORIGINAL-URL:https://staustinschurch.or.ke
X-WR-CALDESC:Events for St Austins Parish Msongari
REFRESH-INTERVAL;VALUE=DURATION:PT1H
X-Robots-Tag:noindex
X-PUBLISHED-TTL:PT1H
BEGIN:VTIMEZONE
TZID:UTC
BEGIN:STANDARD
TZOFFSETFROM:+0000
TZOFFSETTO:+0000
TZNAME:UTC
DTSTART:20230101T000000
END:STANDARD
END:VTIMEZONE
BEGIN:VEVENT
DTSTART;TZID=UTC:20240908T080000
DTEND;TZID=UTC:20240908T140000
DTSTAMP:20260424T173724
CREATED:20240829T074337Z
LAST-MODIFIED:20240829T074337Z
UID:6232-1725782400-1725804000@staustinschurch.or.ke
SUMMARY:125YEARS VISUAL DOCUMENTARY AND GALLERY
DESCRIPTION:We are excited to invite you to a special event celebrating 125 Years of St. Austin’s Parish with a Visual Documentary and Gallery. This event will be held on 8th September 2024 at the Upper Multipurpose Hall. \nWe will be showcasing our rich history and heritage through a series of shows at the following times: \n8:30 AM\n10:00 AM\n11:30 AM\n1:20 PM \nJoin us through the link below https://forms.gle/VELFqDVVTZszkJmK9 for a journey through the years\, as we honor the past and look forward to the future of our beloved parish. \nWe look forward to celebrating with you! \nSt. Austin’s Parish Communications Office
URL:https://staustinschurch.or.ke/event/125years-visual-documentary-and-gallery/
LOCATION:Upper Multipurpose Hall\, Kenya
END:VEVENT
END:VCALENDAR