BEGIN:VCALENDAR
VERSION:2.0
PRODID:-//St Austins Parish Msongari - ECPv6.15.20//NONSGML v1.0//EN
CALSCALE:GREGORIAN
METHOD:PUBLISH
X-WR-CALNAME:St Austins Parish Msongari
X-ORIGINAL-URL:https://staustinschurch.or.ke
X-WR-CALDESC:Events for St Austins Parish Msongari
REFRESH-INTERVAL;VALUE=DURATION:PT1H
X-Robots-Tag:noindex
X-PUBLISHED-TTL:PT1H
BEGIN:VTIMEZONE
TZID:UTC
BEGIN:STANDARD
TZOFFSETFROM:+0000
TZOFFSETTO:+0000
TZNAME:UTC
DTSTART:20230101T000000
END:STANDARD
END:VTIMEZONE
BEGIN:VEVENT
DTSTART;TZID=UTC:20240928T100000
DTEND;TZID=UTC:20240928T170000
DTSTAMP:20260423T110048
CREATED:20240918T115002Z
LAST-MODIFIED:20240918T115037Z
UID:6305-1727517600-1727542800@staustinschurch.or.ke
SUMMARY:SUBUKIA PILGRIMAGE - PARISH PRAYER DAY
DESCRIPTION:The Parish Priest Fr. George Omondi warmly invites you to join us for the Annual Parish Prayer Day in Subukia on 28th September 2024. \nCharges: KES 700\nRegistration: Please register through your small Christian community or through the communications office on 0705593500 for those not part of any Jumuiya..\nPayment: Kindly make payments strictly via M-Pesa Paybill 593500\, with the account number SUBUKIA and forward the transaction to the Whatsapp number Provided. 0705593500 \nLet us come together in prayer and fellowship. We look forward to your presence.\nSee poster for more details. \nMay God bless you.
URL:https://staustinschurch.or.ke/event/subukia-pilgrimage-parish-prayer-day/
LOCATION:SUBUKIA SHRINE\, Kenya
END:VEVENT
END:VCALENDAR