BEGIN:VCALENDAR
VERSION:2.0
PRODID:-//St Austins Parish Msongari - ECPv6.15.20//NONSGML v1.0//EN
CALSCALE:GREGORIAN
METHOD:PUBLISH
X-ORIGINAL-URL:https://staustinschurch.or.ke
X-WR-CALDESC:Events for St Austins Parish Msongari
REFRESH-INTERVAL;VALUE=DURATION:PT1H
X-Robots-Tag:noindex
X-PUBLISHED-TTL:PT1H
BEGIN:VTIMEZONE
TZID:UTC
BEGIN:STANDARD
TZOFFSETFROM:+0000
TZOFFSETTO:+0000
TZNAME:UTC
DTSTART:20230101T000000
END:STANDARD
END:VTIMEZONE
BEGIN:VEVENT
DTSTART;TZID=UTC:20241001T183000
DTEND;TZID=UTC:20241031T190000
DTSTAMP:20260423T044554
CREATED:20240925T091528Z
LAST-MODIFIED:20240925T091528Z
UID:6320-1727807400-1730401200@staustinschurch.or.ke
SUMMARY:THE WALKING ROSARY
DESCRIPTION:Dear Parishioners. As our Parish community continues to embrace a strategic purpose of becoming a Thriving Congregation\, here is another brilliant opportunity to pray together as we bond and keep fit. Think about it this way…While the secular world will be awash with ‘Black Friday’ manenos\, we will be working out our spiritual and physical muscles! 💪 God bless y’all and see you there……
URL:https://staustinschurch.or.ke/event/the-walking-rosary/
LOCATION:ST AUSTINS PARISH MSONGARI\, Parklands\, Rhapta Road\, Nairobi\, NAIROBI\, Nairobi County\, 252-SARIT\, Kenya
END:VEVENT
END:VCALENDAR