BEGIN:VCALENDAR
VERSION:2.0
PRODID:-//St Austins Parish Msongari - ECPv6.15.20//NONSGML v1.0//EN
CALSCALE:GREGORIAN
METHOD:PUBLISH
X-WR-CALNAME:St Austins Parish Msongari
X-ORIGINAL-URL:https://staustinschurch.or.ke
X-WR-CALDESC:Events for St Austins Parish Msongari
REFRESH-INTERVAL;VALUE=DURATION:PT1H
X-Robots-Tag:noindex
X-PUBLISHED-TTL:PT1H
BEGIN:VTIMEZONE
TZID:UTC
BEGIN:STANDARD
TZOFFSETFROM:+0000
TZOFFSETTO:+0000
TZNAME:UTC
DTSTART:20230101T000000
END:STANDARD
END:VTIMEZONE
BEGIN:VEVENT
DTSTART;VALUE=DATE:20241006
DTEND;VALUE=DATE:20241209
DTSTAMP:20260422T230022
CREATED:20241022T085022Z
LAST-MODIFIED:20241022T085036Z
UID:6376-1728172800-1733702399@staustinschurch.or.ke
SUMMARY:THE POKOT BOOKS DRIVE
DESCRIPTION:This year\, we intend to furnish a LIBRARY BLOCK that will provide disadvantaged pupils from Chemolingot village in East Pokot\, an opportunity to access Competency Based Curriculum (C.B.C) learning materials. \nWe kindly request your support in this noble initiative by donating: New CBC Text books or cash through our M-Pesa Till Number 5006417. Cheques are Payable to St Austins Parish Snr Youth
URL:https://staustinschurch.or.ke/event/the-pokot-books-drive/
LOCATION:ST AUSTINS PARISH MSONGARI\, Parklands\, Rhapta Road\, Nairobi\, NAIROBI\, Nairobi County\, 252-SARIT\, Kenya
END:VEVENT
BEGIN:VEVENT
DTSTART;TZID=UTC:20241118T083000
DTEND;TZID=UTC:20241130T153000
DTSTAMP:20260422T230022
CREATED:20241108T090052Z
LAST-MODIFIED:20241108T091143Z
UID:6479-1731918600-1732980600@staustinschurch.or.ke
SUMMARY:ST.AUSTIN'S CHILDREN HOLIDAY CLUB
DESCRIPTION:The St. Austin’s Children’s Ministry is excited to invite you to the Christmas Holiday Club \, from 18th to 30th November 2024. We will admit children of ages 3 to 13 Years. Pick registration forms at the Parish office.
URL:https://staustinschurch.or.ke/event/st-austins-children-holiday-club/
LOCATION:ST AUSTINS PARISH MSONGARI\, Parklands\, Rhapta Road\, Nairobi\, NAIROBI\, Nairobi County\, 252-SARIT\, Kenya
END:VEVENT
BEGIN:VEVENT
DTSTART;TZID=UTC:20241129T180000
DTEND;TZID=UTC:20241129T220000
DTSTAMP:20260422T230022
CREATED:20241106T122818Z
LAST-MODIFIED:20241106T122818Z
UID:6440-1732903200-1732917600@staustinschurch.or.ke
SUMMARY:PRAYER GARDEN DINNER
DESCRIPTION:St. Austins Parish Prayer Garden Project \nJoin Us in Building Our Prayer Garden: A Sacred Space for Prayer\, Reflection and Peace \nPrayer Garden Fundraising Goal: KES 39.5 million by November 2025 \nWays to Give: \n\nFamily or individual Contributions\nSmall Christian Communities and Church Group contributions\nBusiness\, corporate or school community Contributions\nFundraising Dinner on 29th November 2029 and Family Day event on 8th December 2024.\nCrowdfunding and sell of Merchandise for 125 years anniversary\nWeekly Church Contributions from January 2025\nOther events for 2025 will be announced in due course\n\nBenefit Categories:\nTo express our gratitude\, we have created benefit categories\, allowing contributors who help us raise from Kes. 100k to enjoy special acknowledgments and privileges based on their level of support. The benefits categories are on the Church Notice Board. \nAccount Details: \n\nCARITAS Paybill: 8998990\nAccount Number: 300100\n\nYour contribution and involvement in this project Matters!\nTogether\, let’s create a place of peace and prayer.
URL:https://staustinschurch.or.ke/event/prayer-garden-dinner/
LOCATION:THE NAIROBI CLUB\, Nairobi Club\, Ngong Rd\, North\, Nairobi\, Kenya
ATTACH;FMTTYPE=image/jpeg:https://staustinschurch.or.ke/wp-content/uploads/2024/11/DINNER-CARD.jpg
END:VEVENT
END:VCALENDAR