BEGIN:VCALENDAR
VERSION:2.0
PRODID:-//St Austins Parish Msongari - ECPv6.15.20//NONSGML v1.0//EN
CALSCALE:GREGORIAN
METHOD:PUBLISH
X-ORIGINAL-URL:https://staustinschurch.or.ke
X-WR-CALDESC:Events for St Austins Parish Msongari
REFRESH-INTERVAL;VALUE=DURATION:PT1H
X-Robots-Tag:noindex
X-PUBLISHED-TTL:PT1H
BEGIN:VTIMEZONE
TZID:UTC
BEGIN:STANDARD
TZOFFSETFROM:+0000
TZOFFSETTO:+0000
TZNAME:UTC
DTSTART:20240101T000000
END:STANDARD
END:VTIMEZONE
BEGIN:VEVENT
DTSTART;TZID=UTC:20250413T130000
DTEND;TZID=UTC:20250413T160000
DTSTAMP:20260422T155404
CREATED:20250328T141026Z
LAST-MODIFIED:20250328T141026Z
UID:7011-1744549200-1744560000@staustinschurch.or.ke
SUMMARY:MARRIAGE SEMINAR 2025
DESCRIPTION:St. Austin’s Parish Invite you to a Marriage Seminar on the 13th of April 2025 at the Lower Multipurpose Hall. Kindly Register at the Parish Office. \nThe Guest Speaker will be Dr. John Boakye
URL:https://staustinschurch.or.ke/event/marriage-seminar-2025/
LOCATION:Lower Multipurpose Hall\, Kenya
ATTACH;FMTTYPE=image/jpeg:https://staustinschurch.or.ke/wp-content/uploads/2025/03/MARRIAGE-SEMINAR.jpg
END:VEVENT
END:VCALENDAR