BEGIN:VCALENDAR
VERSION:2.0
PRODID:-//St Austins Parish Msongari - ECPv6.15.20//NONSGML v1.0//EN
CALSCALE:GREGORIAN
METHOD:PUBLISH
X-ORIGINAL-URL:https://staustinschurch.or.ke
X-WR-CALDESC:Events for St Austins Parish Msongari
REFRESH-INTERVAL;VALUE=DURATION:PT1H
X-Robots-Tag:noindex
X-PUBLISHED-TTL:PT1H
BEGIN:VTIMEZONE
TZID:UTC
BEGIN:STANDARD
TZOFFSETFROM:+0000
TZOFFSETTO:+0000
TZNAME:UTC
DTSTART:20240101T000000
END:STANDARD
END:VTIMEZONE
BEGIN:VEVENT
DTSTART;TZID=UTC:20250614T083000
DTEND;TZID=UTC:20250614T140000
DTSTAMP:20260422T120849
CREATED:20250513T134031Z
LAST-MODIFIED:20250528T123903Z
UID:7132-1749889800-1749909600@staustinschurch.or.ke
SUMMARY:CELEBRATING FATHER'S WALK
DESCRIPTION:Join us as we crown our Fathers during this years Fathers Day Celebrations\, by taking part in a memorable 8KM walk from St. Mary’s Grounds\, through James Gichuru Road to Riverside Drive then to Ring Road Kileleshwa\, continuing along Rhapta Road\, and finally back to St. Austin’s Church closing with a joyful thanksgiving Mass for our fathers.  Date 14TH JUNE 2025 @ 8:30AM Charges are Kshs. 1000/= Inclusive of a T-shirt. REGISTER HERE     \nROUTE MAP https://www.maps.ie/map-my-route/viewMap.php?route=303503
URL:https://staustinschurch.or.ke/event/celebrating-fathers-walk/
LOCATION:ST AUSTINS PARISH MSONGARI\, Parklands\, Rhapta Road\, Nairobi\, NAIROBI\, Nairobi County\, 252-SARIT\, Kenya
ATTACH;FMTTYPE=image/jpeg:https://staustinschurch.or.ke/wp-content/uploads/2025/05/WALK-scaled.jpg
END:VEVENT
END:VCALENDAR