BEGIN:VCALENDAR
VERSION:2.0
PRODID:-//St Austins Parish Msongari - ECPv6.15.20//NONSGML v1.0//EN
CALSCALE:GREGORIAN
METHOD:PUBLISH
X-WR-CALNAME:St Austins Parish Msongari
X-ORIGINAL-URL:https://staustinschurch.or.ke
X-WR-CALDESC:Events for St Austins Parish Msongari
REFRESH-INTERVAL;VALUE=DURATION:PT1H
X-Robots-Tag:noindex
X-PUBLISHED-TTL:PT1H
BEGIN:VTIMEZONE
TZID:UTC
BEGIN:STANDARD
TZOFFSETFROM:+0000
TZOFFSETTO:+0000
TZNAME:UTC
DTSTART:20240101T000000
END:STANDARD
END:VTIMEZONE
BEGIN:VEVENT
DTSTART;TZID=UTC:20250615T080000
DTEND;TZID=UTC:20250615T170000
DTSTAMP:20260422T120544
CREATED:20250615T044559Z
LAST-MODIFIED:20250615T044559Z
UID:7234-1749974400-1750006800@staustinschurch.or.ke
SUMMARY:WELLNESS DAY FATHERS DAY EDITION
DESCRIPTION:Tomorrow Sunday 15th June 2025\, the Chiromo Hospital Group will be in our Parish for the Mental Wellness Day.#Fathers Day Edition. \nKindly plan to visit their tent after every Mass outside the church.
URL:https://staustinschurch.or.ke/event/wellness-day-fathers-day-edition/
LOCATION:MAIN PARKING\, Kenya
ATTACH;FMTTYPE=image/jpeg:https://staustinschurch.or.ke/wp-content/uploads/2025/06/chiromo.jpg
END:VEVENT
END:VCALENDAR