BEGIN:VCALENDAR
VERSION:2.0
PRODID:-//St Austins Parish Msongari - ECPv6.15.20//NONSGML v1.0//EN
CALSCALE:GREGORIAN
METHOD:PUBLISH
X-WR-CALNAME:St Austins Parish Msongari
X-ORIGINAL-URL:https://staustinschurch.or.ke
X-WR-CALDESC:Events for St Austins Parish Msongari
REFRESH-INTERVAL;VALUE=DURATION:PT1H
X-Robots-Tag:noindex
X-PUBLISHED-TTL:PT1H
BEGIN:VTIMEZONE
TZID:UTC
BEGIN:STANDARD
TZOFFSETFROM:+0000
TZOFFSETTO:+0000
TZNAME:UTC
DTSTART:20250101T000000
END:STANDARD
END:VTIMEZONE
BEGIN:VEVENT
DTSTART;TZID=UTC:20260215T140000
DTEND;TZID=UTC:20260215T160000
DTSTAMP:20260421T202246
CREATED:20260215T052204Z
LAST-MODIFIED:20260215T052204Z
UID:7995-1771164000-1771171200@staustinschurch.or.ke
SUMMARY:MASS FOR THE SICK 2026
DESCRIPTION:Feb. 11 is World Day of the Sick\, an observation introduced by Pope John Paul II as a way for believers to offer prayers for those suffering from illnesses. The day coincides with the commemoration of Our Lady of Lourdes and is an important opportunity for those who serve in Catholic health ministry to reflect on caring for those who are sick as well as those who provide care to them.
URL:https://staustinschurch.or.ke/event/mass-for-the-sick-2026/
LOCATION:MAIN CHURCH
ATTACH;FMTTYPE=image/jpeg:https://staustinschurch.or.ke/wp-content/uploads/2026/02/MASS-FOR-THE-SICK-2026.jpg
END:VEVENT
END:VCALENDAR