BEGIN:VCALENDAR
VERSION:2.0
PRODID:-//St Austins Parish Msongari - ECPv6.15.20//NONSGML v1.0//EN
CALSCALE:GREGORIAN
METHOD:PUBLISH
X-WR-CALNAME:St Austins Parish Msongari
X-ORIGINAL-URL:https://staustinschurch.or.ke
X-WR-CALDESC:Events for St Austins Parish Msongari
REFRESH-INTERVAL;VALUE=DURATION:PT1H
X-Robots-Tag:noindex
X-PUBLISHED-TTL:PT1H
BEGIN:VTIMEZONE
TZID:UTC
BEGIN:STANDARD
TZOFFSETFROM:+0000
TZOFFSETTO:+0000
TZNAME:UTC
DTSTART:20220101T000000
END:STANDARD
END:VTIMEZONE
BEGIN:VEVENT
DTSTART;TZID=UTC:20230616T100000
DTEND;TZID=UTC:20230616T170000
DTSTAMP:20260423T050345
CREATED:20230615T145214Z
LAST-MODIFIED:20230615T145214Z
UID:3629-1686909600-1686934800@staustinschurch.or.ke
SUMMARY:HOLY GHOST FATHERS FAMILY DAY 2023
DESCRIPTION:The Congregation of The Holy Ghost Fathers “Spiritans” invites you to fundraising event towards training of future priests\, which will be held on 16th June 2023 at St.Austins Parish Msongari Multipurpose Hall from 10:00am.Your Prayers and Financial support will be a blessing to us. For more information email:bursarholyghostfathers@gmail.com
URL:https://staustinschurch.or.ke/event/holy-ghost-fathers-family-day-2023/
LOCATION:ST AUSTINS PARISH MSONGARI\, Parklands\, Rhapta Road\, Nairobi\, NAIROBI\, Nairobi County\, 252-SARIT\, Kenya
END:VEVENT
END:VCALENDAR