BEGIN:VCALENDAR
VERSION:2.0
PRODID:-//St Austins Parish Msongari - ECPv6.15.20//NONSGML v1.0//EN
CALSCALE:GREGORIAN
METHOD:PUBLISH
X-ORIGINAL-URL:https://staustinschurch.or.ke
X-WR-CALDESC:Events for St Austins Parish Msongari
REFRESH-INTERVAL;VALUE=DURATION:PT1H
X-Robots-Tag:noindex
X-PUBLISHED-TTL:PT1H
BEGIN:VTIMEZONE
TZID:UTC
BEGIN:STANDARD
TZOFFSETFROM:+0000
TZOFFSETTO:+0000
TZNAME:UTC
DTSTART:20240101T000000
END:STANDARD
END:VTIMEZONE
BEGIN:VEVENT
DTSTART;VALUE=DATE:20250502
DTEND;VALUE=DATE:20250503
DTSTAMP:20260422T120959
CREATED:20250207T134908Z
LAST-MODIFIED:20250430T123400Z
UID:6776-1746144000-1746230399@staustinschurch.or.ke
SUMMARY:PRAYER GARDEN GOLF TOURNAMENT
DESCRIPTION:VENUE:MUTHAIGA GOLF CLUB \nCHARGES; SINGLE-5\,000 Inclusive of Dinner \nTO REGISTER:https://forms.gle/CuD1W5W194myD9mMA \nFormat of Play : StableFord System
URL:https://staustinschurch.or.ke/event/prayer-garden-golf-tournament/
LOCATION:MUTHAIGA GOLF CLUB\, Kenya
ATTACH;FMTTYPE=image/jpeg:https://staustinschurch.or.ke/wp-content/uploads/2025/02/GOLF-A3-scaled.jpg
END:VEVENT
BEGIN:VEVENT
DTSTART;TZID=UTC:20250511T113500
DTEND;TZID=UTC:20250511T133000
DTSTAMP:20260422T120959
CREATED:20250506T083448Z
LAST-MODIFIED:20250506T083448Z
UID:7118-1746963300-1746970200@staustinschurch.or.ke
SUMMARY:PERSONAL FINANCE MANAGEMENT pt3
DESCRIPTION:The Youth Family will resume their mentorship talk series under the theme: Personal Finance Management. All youth of the parish are cordially invited to attend this empowering session on one of the most critical topics affecting their lives — Financial Literacy. The focus will be on Principles of Money and How to Tap into Investment Opportunities. The talk will take place at the Lower Multipurpose Hall\, starting at 11:35 a.m. and Entry is FREE
URL:https://staustinschurch.or.ke/event/personal-finance-management-pt3/
LOCATION:PARISH PASTORAL CENTRE\, Rhapta Road.\, Nairobi\, Nairobi County\, 226\, Kenya
ATTACH;FMTTYPE=image/jpeg:https://staustinschurch.or.ke/wp-content/uploads/2025/05/FINANCE-MANAGEMENT-3-scaled.jpg
END:VEVENT
END:VCALENDAR